BEGIN:VCALENDAR
VERSION:2.0
PRODID:-//Tukios.com/
BEGIN:VEVENT
UID:3df59c42-f1fd-414f-a3e0-b76c3eeda08a@obits.bocchinfusofh.com
DTSTAMP:20260421T032544Z
DTSTART:20260427T150000Z
DTEND:20260427T160000Z
SUMMARY:Mass
DESCRIPTION:
URL:https://obits.bocchinfusofh.com/wayne-tucker
LOCATION:St. Patrick’s Church 31 Chestnut Street  St. Catharines ON L2T 
	1G8
GEO:43.1397888;-79.2122526
END:VEVENT
END:VCALENDAR