BEGIN:VCALENDAR
VERSION:2.0
PRODID:-//Tukios.com/
BEGIN:VEVENT
UID:de05fd26-4a66-4490-82c8-a25fe62259a4@obits.bocchinfusofh.com
DTSTAMP:20260421T034134Z
DTSTART:20260426T220000Z
DTEND:20260427T000000Z
SUMMARY:Visitation
DESCRIPTION:
URL:https://obits.bocchinfusofh.com/wayne-tucker
LOCATION:Bocchinfuso Funeral Home 2 Regent Street  Thorold ON L2V 1T1
GEO:43.1273902;-79.2002724
END:VEVENT
END:VCALENDAR