BEGIN:VCALENDAR
VERSION:2.0
PRODID:-//Tukios.com/
BEGIN:VEVENT
UID:428c54ab-ff42-477b-b987-d58d911f056b@obits.bocchinfusofh.com
DTSTAMP:20260425T201914Z
DTSTART:20260428T170000Z
DTEND:20260428T180000Z
SUMMARY:Funeral Service
DESCRIPTION:
URL:https://obits.bocchinfusofh.com/russell-manning
LOCATION: 2 Regent Street  Thorold ON L2V 1T1
GEO:43.1273902;-79.2002724
END:VEVENT
END:VCALENDAR