BEGIN:VCALENDAR
VERSION:2.0
PRODID:-//Tukios.com/
BEGIN:VEVENT
UID:f9e105a5-3bf5-4f5b-8629-1da8d46b8ae7@obits.bocchinfusofh.com
DTSTAMP:20260421T042700Z
DTSTART:20260427T150000Z
DTEND:20260427T160000Z
SUMMARY:Funeral Service
DESCRIPTION:
URL:https://obits.bocchinfusofh.com/maureen-barker
LOCATION:The Church of Jesus Christ of Latter-Day Saints 351 Glenridge 
	Avenue  St. Catharines ON L2T 3K6
GEO:43.1323613;-79.2383335
END:VEVENT
END:VCALENDAR