BEGIN:VCALENDAR
VERSION:2.0
PRODID:-//Tukios.com/
BEGIN:VEVENT
UID:040de485-dd5e-4c24-8d38-c5403f6ff305@obits.bocchinfusofh.com
DTSTAMP:20260421T042848Z
DTSTART:20260426T190000Z
DTEND:20260426T220000Z
SUMMARY:Visitation
DESCRIPTION:
URL:https://obits.bocchinfusofh.com/maureen-barker
LOCATION:Bocchinfuso Funeral Home 2 Regent Street  Thorold ON L2V 1T1
GEO:43.1273902;-79.2002724
END:VEVENT
END:VCALENDAR