BEGIN:VCALENDAR
VERSION:2.0
PRODID:-//Tukios.com/
BEGIN:VEVENT
UID:70af89f0-4769-4408-841a-d66a0ef4ad8f@obits.bocchinfusofh.com
DTSTAMP:20260423T060536Z
DTSTART:20260424T160000Z
DTEND:20260424T170000Z
SUMMARY:Funeral Service
DESCRIPTION:
URL:https://obits.bocchinfusofh.com/luigi-milani
LOCATION:Bocchinfuso Funeral Home 2 Regent Street  Thorold ON L2V 1T1
GEO:43.1273902;-79.2002724
END:VEVENT
END:VCALENDAR