BEGIN:VCALENDAR
VERSION:2.0
PRODID:-//Tukios.com/
BEGIN:VEVENT
UID:ac38f30f-d14f-44ac-9c2d-edec34eedbab@obits.bocchinfusofh.com
DTSTAMP:20260423T060022Z
DTSTART:20260424T150000Z
DTEND:20260424T160000Z
SUMMARY:Visitation
DESCRIPTION:
URL:https://obits.bocchinfusofh.com/luigi-milani
LOCATION:Bocchinfuso Funeral Home 2 Regent Street  Thorold ON L2V 1T1
GEO:43.1273902;-79.2002724
END:VEVENT
END:VCALENDAR