BEGIN:VCALENDAR
VERSION:2.0
PRODID:-//Tukios.com/
BEGIN:VEVENT
UID:1c2a3b4a-5698-4876-86c8-19b7e4b50db2@obits.bocchinfusofh.com
DTSTAMP:20260422T234755Z
DTSTART:20260425T160000Z
DTEND:20260425T170000Z
SUMMARY:Funeral Liturgy Outside of Mass
DESCRIPTION:
URL:https://obits.bocchinfusofh.com/kevin-mcnamara
LOCATION: 2 Regent Street  Thorold ON L2V 1T1
GEO:43.1273902;-79.2002724
END:VEVENT
END:VCALENDAR