BEGIN:VCALENDAR
VERSION:2.0
PRODID:-//Tukios.com/
BEGIN:VEVENT
UID:5542b004-73a2-4402-b140-691e20a2da9b@obits.bocchinfusofh.com
DTSTAMP:20260422T235423Z
DTSTART:20260425T143000Z
DTEND:20260425T160000Z
SUMMARY:Visitation
DESCRIPTION:
URL:https://obits.bocchinfusofh.com/kevin-mcnamara
LOCATION:Bocchinfuso Funeral Home 2 Regent Street  Thorold ON L2V 1T1
GEO:43.1273902;-79.2002724
END:VEVENT
END:VCALENDAR